BEGIN:VCALENDAR
VERSION:2.0
PRODID:-//Houston Recovery Center - ECPv6.15.20//NONSGML v1.0//EN
CALSCALE:GREGORIAN
METHOD:PUBLISH
X-ORIGINAL-URL:https://houstonrecoverycenter.org
X-WR-CALDESC:Events for Houston Recovery Center
REFRESH-INTERVAL;VALUE=DURATION:PT1H
X-Robots-Tag:noindex
X-PUBLISHED-TTL:PT1H
BEGIN:VTIMEZONE
TZID:UTC
BEGIN:STANDARD
TZOFFSETFROM:+0000
TZOFFSETTO:+0000
TZNAME:UTC
DTSTART:20230101T000000
END:STANDARD
END:VTIMEZONE
BEGIN:VEVENT
DTSTART;TZID=UTC:20240322T110000
DTEND;TZID=UTC:20240322T163000
DTSTAMP:20260424T224844
CREATED:20240216T012437Z
LAST-MODIFIED:20240216T012437Z
UID:32049-1711105200-1711125000@houstonrecoverycenter.org
SUMMARY:Spring Into Action Health Fair
DESCRIPTION:Join Houston Recovery Center and the CHW team for this health fair\, so you can spring into good health! There will be health screenings\, food demonstrations\, and community partners available to provide important resources for you to take care of your health. \nJoin us Friday\, March 22\, at Lincoln Park Community Center\, \n979 Grenshaw St\, Houston\, TX 77088 from 11AM to 4:30PM.
URL:https://houstonrecoverycenter.org/event/spring-into-action-health-fair/
LOCATION:Lincoln Park Community Center\, 979 Grenshaw Street\, Houston\, TX\, 77088\, United States
ATTACH;FMTTYPE=image/jpeg:https://houstonrecoverycenter.org/wp-content/uploads/2024/02/Spring-Into-Action-Health-Fair_FINAL-1-scaled.jpg
END:VEVENT
END:VCALENDAR